BEGIN:VCALENDAR
VERSION:2.0
PRODID:-//Energy Desk for SMEs - ECPv5.14.2.1//NONSGML v1.0//EN
CALSCALE:GREGORIAN
METHOD:PUBLISH
X-WR-CALNAME:Energy Desk for SMEs
X-ORIGINAL-URL:https://energydesk.smeda.org
X-WR-CALDESC:Events for Energy Desk for SMEs
REFRESH-INTERVAL;VALUE=DURATION:PT1H
X-Robots-Tag:noindex
X-PUBLISHED-TTL:PT1H
BEGIN:VTIMEZONE
TZID:UTC
BEGIN:STANDARD
TZOFFSETFROM:+0000
TZOFFSETTO:+0000
TZNAME:UTC
DTSTART:20230101T000000
END:STANDARD
END:VTIMEZONE
BEGIN:VEVENT
DTSTART;TZID=UTC:20230829T110000
DTEND;TZID=UTC:20230829T130000
DTSTAMP:20260421T140510
CREATED:20230821T052915Z
LAST-MODIFIED:20230821T052915Z
UID:1142-1693306800-1693314000@energydesk.smeda.org
SUMMARY:Webinar on Solar Power System\,An Alternative Energy Source for SMEs
DESCRIPTION:Small and Medium Enterprises Development Authority (SMEDA) under SMEDA-UNIDO Energy Desk is pleased to announce the titled webinar. The webinar has been designed to brief the participants regarding the use of solar power as an alternative energy source.           \nWebinar Contents  \n\nIntroduction of Solar Energy\nTypes of Solar Power Systems\nCritical Factors that Needs to be considered\nCase Study for Solar System Design\n\nWho Should Attend?  \nSolar Energy technology providers\, Consultants\, Installation engineers\, Technicians\, Technical Directors\, Solar PV System Designers\, Researchers\, Students and all those who wish to enhance their Knowledge & Skills on the subject. \nWebinar Schedule \nDate: 29th August 2023                                                    Time:  11.00 am – 1.00 pm                      \nVenue: Online via Zoom \nZoom link: https://us06web.zoom.us/j/87801898081 \nWebinar ID: 878 0189 8081 \nPasscode: 239266 \nResource Person:  \nMr. Haroon Shaukat is a Certified Energy Transition Expert and Energy Systems Engineer. His extensive academic background is complemented by his hands-on expertise in the design and installation of Solar power systems\, spanning applications in both industrial and commercial scale. His professional journey extends beyond the solar industry\, encompassing valuable contributions to Waste-to-Energy initiatives sponsored by the Higher Education Commission (HEC).  In addition\, he holds certifications from various international training programmes in the field of renewable energy. He has participated in international conferences as a keynote speaker\, sharing insights and advancing discourse in the field of renewable energy.
URL:https://energydesk.smeda.org/event/webinar-on-solar-power-systeman-alternative-energy-source-for-smes/
LOCATION:SMEDA Head Office\, Lahore\, Pakistan
ORGANIZER;CN="Small%20and%20Medium%20Enterprises%20Development%20Authority%20%28SMEDA%29":MAILTO:energydesk@smeda.org.pk
END:VEVENT
END:VCALENDAR