BEGIN:VCALENDAR
VERSION:2.0
PRODID:-//Energy Desk for SMEs - ECPv5.14.2.1//NONSGML v1.0//EN
CALSCALE:GREGORIAN
METHOD:PUBLISH
X-WR-CALNAME:Energy Desk for SMEs
X-ORIGINAL-URL:https://energydesk.smeda.org
X-WR-CALDESC:Events for Energy Desk for SMEs
REFRESH-INTERVAL;VALUE=DURATION:PT1H
X-Robots-Tag:noindex
X-PUBLISHED-TTL:PT1H
BEGIN:VTIMEZONE
TZID:UTC
BEGIN:STANDARD
TZOFFSETFROM:+0000
TZOFFSETTO:+0000
TZNAME:UTC
DTSTART:20230101T000000
END:STANDARD
END:VTIMEZONE
BEGIN:VEVENT
DTSTART;TZID=UTC:20230118T110000
DTEND;TZID=UTC:20230118T130000
DTSTAMP:20260422T014857
CREATED:20230116T060719Z
LAST-MODIFIED:20230116T060719Z
UID:1124-1674039600-1674046800@energydesk.smeda.org
SUMMARY:Online Solar Help Desk
DESCRIPTION:Online Solar Help Desk by SMEDA-UNIDO Energy Desk \nhttps://us06web.zoom.us/j/83683876937?pwd=Q0V3b1lPV0pKeDBnRUpVMHFKeWQvUT09 \nMeeting ID: 836 8387 6937\nPasscode: 410336 \nDate: 18th January 2023\, 11:00 am to 1:00 pm \nFor Further Information:  \nMr. Haroon Shaukat  \nRE Officer  \n042-111-111-456 Ext 379
URL:https://energydesk.smeda.org/event/online-solar-help-desk-4/
LOCATION:SMEDA Head Office\, Lahore\, Pakistan
ORGANIZER;CN="Small%20and%20Medium%20Enterprises%20Development%20Authority%20%28SMEDA%29":MAILTO:energydesk@smeda.org.pk
END:VEVENT
END:VCALENDAR