BEGIN:VCALENDAR
VERSION:2.0
PRODID:-//Energy Desk for SMEs - ECPv5.14.2.1//NONSGML v1.0//EN
CALSCALE:GREGORIAN
METHOD:PUBLISH
X-WR-CALNAME:Energy Desk for SMEs
X-ORIGINAL-URL:https://energydesk.smeda.org
X-WR-CALDESC:Events for Energy Desk for SMEs
REFRESH-INTERVAL;VALUE=DURATION:PT1H
X-Robots-Tag:noindex
X-PUBLISHED-TTL:PT1H
BEGIN:VTIMEZONE
TZID:UTC
BEGIN:STANDARD
TZOFFSETFROM:+0000
TZOFFSETTO:+0000
TZNAME:UTC
DTSTART:20220101T000000
END:STANDARD
END:VTIMEZONE
BEGIN:VEVENT
DTSTART;TZID=UTC:20221221T110000
DTEND;TZID=UTC:20221221T130000
DTSTAMP:20260422T032943
CREATED:20221219T095748Z
LAST-MODIFIED:20221219T095748Z
UID:1121-1671620400-1671627600@energydesk.smeda.org
SUMMARY:Webinar on Designing and Critical Parameters of Solar PV System Components
DESCRIPTION:Small and Medium Enterprises Development Authority (SMEDA) under SMEDA-UNIDO Energy Desk with the collaboration of U.S-Pakistan Centre for Advanced Studies in Energy (USPCASE)\, NUST is pleased to announce the titled webinar “Designing and Critical Parameters of Solar PV System Components” \nWebinar Contents  \n\nTypes and components of solar power systems\nCritical Factors in PV system designing\nBalance of whole PV system\n\nWho Should Attend?  \nSolar Energy technology providers & Consultants\, Installation engineers\, Technicians\, Technical Directors\, Solar PV System Designers\, Researchers\, Students and all those who wish to enhance their Knowledge & Skills on the subject. \nWebinar Schedule \nDate: 21st December 2022                                                          Time:  11:00am – 1:00 pm             \nVenue: Online via Zoom \nZoom link:  \nhttps://us06web.zoom.us/j/86894096421?pwd=Y3dnRjI4UU1yZW94TmRHUmNjcUNTZz09 \nMeeting ID:  868 9409 6421 \nPasscode:      541086 \nResource Person:  \nDr. Nadia Shahzad is working as associate professor and HoD- Research at USPCASE\, (NUST). She received her PhD degree with specialization in Photovoltaics from the Department of Applied Science and Technology\, Politecnico di Torino\, Italy. She has established her expertise in PV system components\, designing\, sizing and safety\, through different high level workshops and trainings\, organized by PV experts from Arizona State University\, USA. She has been an active member of the team who has established the state-of-art technology center at NUST. By now she has conducted number of trainings on solar resource estimation\, PV module testing\, PV technology and standards\, PV system components and designing.
URL:https://energydesk.smeda.org/event/webinar-on-designing-and-critical-parameters-of-solar-pv-system-components/
LOCATION:SMEDA Head Office\, Lahore\, Pakistan
ORGANIZER;CN="Small%20and%20Medium%20Enterprises%20Development%20Authority%20%28SMEDA%29":MAILTO:energydesk@smeda.org.pk
END:VEVENT
END:VCALENDAR