BEGIN:VCALENDAR
VERSION:2.0
PRODID:-//Energy Desk for SMEs - ECPv5.14.2.1//NONSGML v1.0//EN
CALSCALE:GREGORIAN
METHOD:PUBLISH
X-WR-CALNAME:Energy Desk for SMEs
X-ORIGINAL-URL:https://energydesk.smeda.org
X-WR-CALDESC:Events for Energy Desk for SMEs
REFRESH-INTERVAL;VALUE=DURATION:PT1H
X-Robots-Tag:noindex
X-PUBLISHED-TTL:PT1H
BEGIN:VTIMEZONE
TZID:UTC
BEGIN:STANDARD
TZOFFSETFROM:+0000
TZOFFSETTO:+0000
TZNAME:UTC
DTSTART:20210101T000000
END:STANDARD
END:VTIMEZONE
BEGIN:VEVENT
DTSTART;TZID=UTC:20211124T143000
DTEND;TZID=UTC:20211124T163000
DTSTAMP:20260423T000248
CREATED:20211111T044711Z
LAST-MODIFIED:20211119T050950Z
UID:824-1637764200-1637771400@energydesk.smeda.org
SUMMARY:Webinar On Basics Of Solar Energy and Fundamental Of Solar Power System
DESCRIPTION:Small and Medium Enterprises Development Authority (SMEDA) under SMEDA-UNIDO Energy Desk is pleased to announce the titled webinar. The webinar has been designed to brief the participants regarding basics of Solar Power System and its components along with case study . \nWebinar Contents  \n\nIntroduction to Solar Energy\nSolar Cell Structure and Operation\nTypes and Components of Solar Power System\nCritical Factors\nCase Study\n\nWho Should Attend?  \nSME Owners\, Technical Directors\, Maintenance Managers\, Utility Managers\, Energy Managers and all those who wish to enhance their Knowledge & Skills on the subject. \nWebinar Schedule \nDate:   24th November 2021                                                          Time:  2:30 – 4:30 pm                     \nVenue: Online via Zoom \nZoom link: https://us02web.zoom.us/j/83827784521 \n  \nResource Person:  \nMr. Haroon Shaukat holds the Master Degree in Energy Engineering Management and has a practical experience in Solar Power System installation. Currently\, he is associated as Renewable Energy (RE) Officer in SMEDA – UNIDO Energy Desk funded by Global Environment Facility (GEF).
URL:https://energydesk.smeda.org/event/webinar-on-basics-of-solar-energy-and-fundamental-of-solar-power-system/
ORGANIZER;CN="Small%20and%20Medium%20Enterprises%20Development%20Authority%20%28SMEDA%29":MAILTO:energydesk@smeda.org.pk
END:VEVENT
END:VCALENDAR