BEGIN:VCALENDAR
VERSION:2.0
PRODID:-//Energy Desk for SMEs - ECPv5.14.2.1//NONSGML v1.0//EN
CALSCALE:GREGORIAN
METHOD:PUBLISH
X-WR-CALNAME:Energy Desk for SMEs
X-ORIGINAL-URL:https://energydesk.smeda.org
X-WR-CALDESC:Events for Energy Desk for SMEs
REFRESH-INTERVAL;VALUE=DURATION:PT1H
X-Robots-Tag:noindex
X-PUBLISHED-TTL:PT1H
BEGIN:VTIMEZONE
TZID:UTC
BEGIN:STANDARD
TZOFFSETFROM:+0000
TZOFFSETTO:+0000
TZNAME:UTC
DTSTART:20230101T000000
END:STANDARD
END:VTIMEZONE
BEGIN:VEVENT
DTSTART;TZID=UTC:20231221T090000
DTEND;TZID=UTC:20231222T170000
DTSTAMP:20260421T170336
CREATED:20231130T103937Z
LAST-MODIFIED:20231130T103937Z
UID:1156-1703149200-1703264400@energydesk.smeda.org
SUMMARY:SHORT CERTIFICATE TRAINING COURSE - Protocols for Standard Energy Audit and IoT Based in Commercial and Industrial SectorMonitoring
DESCRIPTION:2 day Short Certificate Training Course by NUST and AEE Pak Chapter. 21-22 December at Islamabad \nElevate Your Energy Management Skills: Join our in-person training course organized by the Association of Energy Engineers (AEE)\, Pakistan Chapter\, in collaboration with the School of Chemical and Materials Engineering (SCME) at the National University of Sciences and Technology (NUST)\, Pakistan\, and E-Triangle Automation Company. This specially designed course aims to equip young energy professionals in the commercial and industrial sectors with advanced approaches in Energy Assessment and Monitoring. \n\n\n\n\nTOPICS\nENERGY AUDITS FUNDAMENTALS\nBUILDING AND INDUSTRIAL PROCESS PROFILES\nENERGY BASELINING\, PERFORMANCE INDICATORS AND BENCHMARKING\nENERGY AUDIT PROCESS AND METHODOLOGIES\nENERGY MONITORING AND EVALUATION TECHNIQUES\nBASIC ENERGY CALCULATIONS\nENERGY AUDIT REPORTING AND COMMUNICATION\nALIGNING ENERGY AUDIT WITH DECARBONIZATION PROCESS IN INDUSTRY\nDIGITALIZATION OF MANUFACTURING SECTORS IN THE FOURTH INDUSTRIAL REVOLUTION ARTIFICIAL INTELLIGENCE ASSISTED ENERGY MONITORING AND MANAGEMENT SYSTEMS DIGITAL TWINS POWER SUPPLY NETWORKS FOR EFFICIENT MONITORING AND MANAGEMENT IOT-BASED ENERGY MONITORING SOLUTIONS IN INDUSTRIAL CONTEXTS.\nANALYSES AND INTERPRETATION OF ENERGY DATA COLLECTED THROUGH IOT DEVICES OPTIMIZING INDUSTRIAL PROCESSES WITH DCS AND SCADA: STREAMLINING CONTROL FOR EFFICIENCY\nPRECISION CONTROL STRATEGIES: PLC MASTERY AND SYNERGIZING DISCRETE AND CONTINUOUS CONTROL \n\n\n\n\nRegistration Details \nThe registration deadline is 14 December 2023. \nRegistration Fee \nProfessionals PKR 15\,000/-* Professional (members AEE Pakistan Chapter) PKR 12\,000/-\nWomen Professional PKR 12\,000/- Students PKR 10\,000/- \n\n\n\n\nContact Details \nEngr. Jihad Salah Khan\nCOO E-Triangle Automation Company \nNational Science & Technology Park (NSTP)\, National University of Sciences & Technology (NUST)\, \nIslamabad\, Pakistan\n+92 51 9085 5108\, +92 323 9545414 \njihadsalahkhan@etriangle.tech
URL:https://energydesk.smeda.org/event/short-certificate-training-course-protocols-for-standard-energy-audit-and-iot-based-in-commercial-and-industrial-sectormonitoring/
LOCATION:NUST H12 Campus Islamabad
END:VEVENT
END:VCALENDAR