BEGIN:VCALENDAR
VERSION:2.0
PRODID:-//Energy Desk for SMEs - ECPv5.14.2.1//NONSGML v1.0//EN
CALSCALE:GREGORIAN
METHOD:PUBLISH
X-WR-CALNAME:Energy Desk for SMEs
X-ORIGINAL-URL:https://energydesk.smeda.org
X-WR-CALDESC:Events for Energy Desk for SMEs
REFRESH-INTERVAL;VALUE=DURATION:PT1H
X-Robots-Tag:noindex
X-PUBLISHED-TTL:PT1H
BEGIN:VTIMEZONE
TZID:UTC
BEGIN:STANDARD
TZOFFSETFROM:+0000
TZOFFSETTO:+0000
TZNAME:UTC
DTSTART:20220101T000000
END:STANDARD
END:VTIMEZONE
BEGIN:VEVENT
DTSTART;TZID=UTC:20221019T100000
DTEND;TZID=UTC:20221019T160000
DTSTAMP:20260422T080801
CREATED:20221017T075525Z
LAST-MODIFIED:20221017T075525Z
UID:1083-1666173600-1666195200@energydesk.smeda.org
SUMMARY:Training on " Solar Power System\, An Alternative Energy Source For SMEs"
DESCRIPTION:Training Content \n\nIntroduction of Solar Energy\nTypes of Solar Power Systems\nCritical Factors that Needs to be considered\nCase Study for Solar System Design\nOpportunities for SMEs in Renewable energy sector\n\nAbout Resource Person \nMr. Haroon Shaukat is an Energy Systems Engineer\, Keynote Speaker\, and Renewable Energy Consultant registered with Pakistan Engineering Council. He holds postgraduate degree in MS Energy Systems Engineering. He has a practical knowledge of designing and installation of Solar power system for industrial and household levels. Along with experience in solar industry\, he also worked in Waste-to-energy projects funded by Higher Education Commission (HEC). In addition\, he holds certifications from various international training programmes. He also participated as a keynote speaker in international conferences. Currently\, he is associated as a Renewable Energy officer at SMEDA-UNIDO energy desk funded by Global Environment Facility (GEF).
URL:https://energydesk.smeda.org/event/training-on-solar-power-system-an-alternative-energy-source-for-smes/
LOCATION:Vehari Chamber of Commerce & Industry
ORGANIZER;CN="Small%20and%20Medium%20Enterprises%20Development%20Authority%20%28SMEDA%29":MAILTO:energydesk@smeda.org.pk
END:VEVENT
END:VCALENDAR