BEGIN:VCALENDAR
VERSION:2.0
PRODID:-//Energy Desk for SMEs - ECPv5.14.2.1//NONSGML v1.0//EN
CALSCALE:GREGORIAN
METHOD:PUBLISH
X-WR-CALNAME:Energy Desk for SMEs
X-ORIGINAL-URL:https://energydesk.smeda.org
X-WR-CALDESC:Events for Energy Desk for SMEs
REFRESH-INTERVAL;VALUE=DURATION:PT1H
X-Robots-Tag:noindex
X-PUBLISHED-TTL:PT1H
BEGIN:VTIMEZONE
TZID:UTC
BEGIN:STANDARD
TZOFFSETFROM:+0000
TZOFFSETTO:+0000
TZNAME:UTC
DTSTART:20220101T000000
END:STANDARD
END:VTIMEZONE
BEGIN:VEVENT
DTSTART;TZID=UTC:20221004T110000
DTEND;TZID=UTC:20221004T130000
DTSTAMP:20260422T080803
CREATED:20220929T065750Z
LAST-MODIFIED:20220929T065826Z
UID:1075-1664881200-1664888400@energydesk.smeda.org
SUMMARY:Online Solar Help Desk
DESCRIPTION:Online Solar Help Desk by SMEDA-UNIDO Energy Desk \nhttps://us06web.zoom.us/j/86895555790?pwd=a2R5OVppRkxlLzJOQzc1bXNOa00zQT09 \nMeeting ID: 868 9555 5790\nPasscode:  603861 \nDate:   4th October 2022\, 11:00 am to 1:00 pm \nFor Further Information:  \nMr. Haroon Shaukat  \nRE Officer  \n042-111-111-456 Ext 379
URL:https://energydesk.smeda.org/event/online-solar-help-desk-3/
LOCATION:SMEDA Head Office\, Lahore\, Pakistan
ORGANIZER;CN="Small%20and%20Medium%20Enterprises%20Development%20Authority%20%28SMEDA%29":MAILTO:energydesk@smeda.org.pk
END:VEVENT
END:VCALENDAR