BEGIN:VCALENDAR
VERSION:2.0
PRODID:-//Energy Desk for SMEs - ECPv5.14.2.1//NONSGML v1.0//EN
CALSCALE:GREGORIAN
METHOD:PUBLISH
X-WR-CALNAME:Energy Desk for SMEs
X-ORIGINAL-URL:https://energydesk.smeda.org
X-WR-CALDESC:Events for Energy Desk for SMEs
REFRESH-INTERVAL;VALUE=DURATION:PT1H
X-Robots-Tag:noindex
X-PUBLISHED-TTL:PT1H
BEGIN:VTIMEZONE
TZID:UTC
BEGIN:STANDARD
TZOFFSETFROM:+0000
TZOFFSETTO:+0000
TZNAME:UTC
DTSTART:20220101T000000
END:STANDARD
END:VTIMEZONE
BEGIN:VEVENT
DTSTART;TZID=UTC:20220913T140000
DTEND;TZID=UTC:20220913T160000
DTSTAMP:20260422T092905
CREATED:20220907T092434Z
LAST-MODIFIED:20220908T052146Z
UID:1050-1663077600-1663084800@energydesk.smeda.org
SUMMARY:Webinar on Energy Savings Opportunities in Agriculture by using RE Technologies and smart farming in Pakistan
DESCRIPTION:Small and Medium Enterprises Development Authority (SMEDA) under SMEDA-UNIDO Energy Desk is pleased to announce the titled webinar. The webinar has been designed to brief the participants regarding Energy savings opportunities in agriculture by using RE technologies and smart farming in Pakistan.        \nWebinar Contents  \n\nIntroduction to Agrivoltaics\nFarming Practices using solar energy\nSmart Agriculture in Pakistan\nFarming practices with IoT\n\nWho Should Attend?  \nAgriculture Experts\, Dairy Farmers\, Farm Managers\,Students and all those who wish to enhance their Knowledge & Skills on the subject. \nWebinar Schedule \nDate: 13th September 2022                                                          Time:  2:00 pm– 4:00 pm                \nVenue: Online via Zoom \nZoom link: \nhttps://us06web.zoom.us/j/85085710725?pwd=SXlBallERlg1Y2dLdWhyKzBaSG5RUT09 \nResource Person:  \nMr. Moaz Altaf is an international expert\, having vast experience as an Energy Auditor in Thailand. He is a researcher and a PhD scholar at King Mongkut’s University of Technology Thonburi (KMUTT) Thailand. He has conducted various trainings programs regarding Internet of Things (IOTs) and its application. He is an author of a book and several research papers\, too. He has practical experience of implementing Internet of Things (IoTs) based energy conservation solution for hotel and industrial sector. He is multilingual and is fluent in English\, Italian and Spanish.
URL:https://energydesk.smeda.org/event/webinar-on-energy-savings-opportunities-in-agriculture-by-using-re-technologies-and-smart-farming-in-pakistan/
LOCATION:SMEDA Head Office\, Lahore\, Pakistan
ORGANIZER;CN="Small%20and%20Medium%20Enterprises%20Development%20Authority%20%28SMEDA%29":MAILTO:energydesk@smeda.org.pk
END:VEVENT
END:VCALENDAR