BEGIN:VCALENDAR
VERSION:2.0
PRODID:-//Energy Desk for SMEs - ECPv5.14.2.1//NONSGML v1.0//EN
CALSCALE:GREGORIAN
METHOD:PUBLISH
X-WR-CALNAME:Energy Desk for SMEs
X-ORIGINAL-URL:https://energydesk.smeda.org
X-WR-CALDESC:Events for Energy Desk for SMEs
REFRESH-INTERVAL;VALUE=DURATION:PT1H
X-Robots-Tag:noindex
X-PUBLISHED-TTL:PT1H
BEGIN:VTIMEZONE
TZID:UTC
BEGIN:STANDARD
TZOFFSETFROM:+0000
TZOFFSETTO:+0000
TZNAME:UTC
DTSTART:20220101T000000
END:STANDARD
END:VTIMEZONE
BEGIN:VEVENT
DTSTART;TZID=UTC:20220905T110000
DTEND;TZID=UTC:20220905T130000
DTSTAMP:20260422T092906
CREATED:20220901T053256Z
LAST-MODIFIED:20220901T053827Z
UID:1044-1662375600-1662382800@energydesk.smeda.org
SUMMARY:Online Solar Help Desk
DESCRIPTION:Online Solar Help Desk by SMEDA-UNIDO Energy Desk \nLink:https://us06web.zoom.us/j/89936193857?pwd=S3JTMG5CMnc0SG5JQnR4c1VMb25yUT09 \nMeeting ID: 899 3619 3857\nPasscode: 246516 \nDate : 5th  September 2022 \, 11:00 am to 1:00 pm \n  \nFor Further Information :  \nMr. Haroon Shaukat  \nRE Officer  \n042-111-111-456 Ext 379
URL:https://energydesk.smeda.org/event/online-solar-help-desk/
LOCATION:SMEDA Head Office\, Lahore\, Pakistan
ORGANIZER;CN="Small%20and%20Medium%20Enterprises%20Development%20Authority%20%28SMEDA%29":MAILTO:energydesk@smeda.org.pk
END:VEVENT
END:VCALENDAR