BEGIN:VCALENDAR
VERSION:2.0
PRODID:-//Energy Desk for SMEs - ECPv5.14.2.1//NONSGML v1.0//EN
CALSCALE:GREGORIAN
METHOD:PUBLISH
X-WR-CALNAME:Energy Desk for SMEs
X-ORIGINAL-URL:https://energydesk.smeda.org
X-WR-CALDESC:Events for Energy Desk for SMEs
REFRESH-INTERVAL;VALUE=DURATION:PT1H
X-Robots-Tag:noindex
X-PUBLISHED-TTL:PT1H
BEGIN:VTIMEZONE
TZID:UTC
BEGIN:STANDARD
TZOFFSETFROM:+0000
TZOFFSETTO:+0000
TZNAME:UTC
DTSTART:20220101T000000
END:STANDARD
END:VTIMEZONE
BEGIN:VEVENT
DTSTART;TZID=UTC:20220517T110000
DTEND;TZID=UTC:20220517T130000
DTSTAMP:20260422T165754
CREATED:20220510T044940Z
LAST-MODIFIED:20220511T084106Z
UID:1000-1652785200-1652792400@energydesk.smeda.org
SUMMARY:Webinar on EnMS ISO 50001
DESCRIPTION:Small and Medium Enterprises Development Authority (SMEDA) under SMEDA-UNIDO Energy Desk with the collaboration of U.S-Pakistan Centre for Advanced Studies in Energy (USPCASE)\, NUST is pleased to announce the titled webinar “EnMS ISO 50001”. \nWebinar Contents  \nThe webinar has been designed to brief the participants regarding introduction and implementation of EnMS ISO 50001.   \nWho Should Attend?  \nSME Owners\, Technical Directors\, Maintenance Managers\, Utility Managers\, Energy Managers\, Students and all those who wish to enhance their Knowledge & Skills on the subject. \nWebinar Schedule \nDate: 17th May 2022                                                         Time:  11:00am – 1:00 pm                       \nVenue: Online via Zoom \nZoom link: https://zoom.us/j/94648964761?pwd=MmljQWtLQWVYRlR1Yy9XMEE2ZkU5UT09 \nMeeting ID: 946 4896 4761 \nPasscode: 252565 \nResource Person:  \nDr Muhammad Bilal Sajid is associate professor in department of thermal energy engineering at US-Pakistan Center for Advanced Studies in Energy (USPCASE)\, NUST. He obtained his PhD in mechanical engineering from KAUST\, Saudi Arabia in 2015. His research interests are sustainability\, green buildings and industrial energy management. He holds several professional credentials\, such as Certified Energy Manager (CEM) and ISO-50001 Auditor.
URL:https://energydesk.smeda.org/event/webinar-on-enms-iso-50001/
LOCATION:SMEDA Head Office\, Lahore\, Pakistan
ORGANIZER;CN="Small%20and%20Medium%20Enterprises%20Development%20Authority%20%28SMEDA%29":MAILTO:energydesk@smeda.org.pk
END:VEVENT
END:VCALENDAR