BEGIN:VCALENDAR
VERSION:2.0
PRODID:-//Energy Desk for SMEs - ECPv5.14.2.1//NONSGML v1.0//EN
CALSCALE:GREGORIAN
METHOD:PUBLISH
X-WR-CALNAME:Energy Desk for SMEs
X-ORIGINAL-URL:https://energydesk.smeda.org
X-WR-CALDESC:Events for Energy Desk for SMEs
REFRESH-INTERVAL;VALUE=DURATION:PT1H
X-Robots-Tag:noindex
X-PUBLISHED-TTL:PT1H
BEGIN:VTIMEZONE
TZID:UTC
BEGIN:STANDARD
TZOFFSETFROM:+0000
TZOFFSETTO:+0000
TZNAME:UTC
DTSTART:20220101T000000
END:STANDARD
END:VTIMEZONE
BEGIN:VEVENT
DTSTART;TZID=UTC:20220412T110000
DTEND;TZID=UTC:20220412T140000
DTSTAMP:20260422T183823
CREATED:20220411T064645Z
LAST-MODIFIED:20220411T065553Z
UID:980-1649761200-1649772000@energydesk.smeda.org
SUMMARY:Webinar on "Municipal Solid Waste - A Renewable Energy Source"
DESCRIPTION:Small and Medium Enterprises Development Authority (SMEDA) under SMEDA-UNIDO Energy Desk is pleased to announce the titled webinar. The webinar has been designed to brief the participants regarding Municipal Solid Waste\, A Renewable Energy Source.           \n  \nWebinar Contents  \n\nWhat is Waste?\nOverview of Municipal Solid Waste in Pakistan\nTypes of treatment technologies\nComparative analysis (Case studies)\nBusiness opportunities\n\nWho Should Attend?  \nWaste Management Authority representatives\, Technical Directors\, Maintenance Managers\, Utility Managers\, Energy Managers\, students and all those who wish to enhance their Knowledge & Skills on the subject. \n  \nWebinar Schedule \nDate: 12th April 2022                                                        Time:  11.00 – 1.00 pm                 \nVenue: Online via Zoom \nZoom link: https://us02web.zoom.us/j/83186433857 \nWebinar ID: 831 8643 3857 \n  \nResource Person:  \nMr. Haroon Shaukat is an Engineering Graduate having degrees\, MS Energy Systems Engineering and BSc Energy Systems Engineering. He has a practical knowledge of designing and installation of Solar power system for industrial and household level. Along with experience in solar industry\, he also worked in Waste-to-energy projects funded by Higher Education Commission (HEC). In addition\, he holds certifications from various international training programmes in municipal solid waste management. He has participated as a keynote speaker in international conferences. Currently he is associated as Renewable Energy officer at SMEDA-UNIDO energy desk funded by Global Environment Facility (GEF).
URL:https://energydesk.smeda.org/event/webinar-on-municipal-solid-waste-a-renewable-energy-source/
LOCATION:SMEDA Head Office\, Lahore\, Pakistan
ORGANIZER;CN="Small%20and%20Medium%20Enterprises%20Development%20Authority%20%28SMEDA%29":MAILTO:energydesk@smeda.org.pk
END:VEVENT
END:VCALENDAR