BEGIN:VCALENDAR
VERSION:2.0
PRODID:-//Energy Desk for SMEs - ECPv5.14.2.1//NONSGML v1.0//EN
CALSCALE:GREGORIAN
METHOD:PUBLISH
X-WR-CALNAME:Energy Desk for SMEs
X-ORIGINAL-URL:https://energydesk.smeda.org
X-WR-CALDESC:Events for Energy Desk for SMEs
REFRESH-INTERVAL;VALUE=DURATION:PT1H
X-Robots-Tag:noindex
X-PUBLISHED-TTL:PT1H
BEGIN:VTIMEZONE
TZID:UTC
BEGIN:STANDARD
TZOFFSETFROM:+0000
TZOFFSETTO:+0000
TZNAME:UTC
DTSTART:20220101T000000
END:STANDARD
END:VTIMEZONE
BEGIN:VEVENT
DTSTART;TZID=UTC:20220203T143000
DTEND;TZID=UTC:20220203T163000
DTSTAMP:20260422T212123
CREATED:20220105T074205Z
LAST-MODIFIED:20220112T112023Z
UID:870-1643898600-1643905800@energydesk.smeda.org
SUMMARY:Webinar on "Energy Expert - A Promising Career For Women"
DESCRIPTION:Small and Medium Enterprises Development Authority (SMEDA) under SMEDA-UNIDO Energy Desk is pleased to announce the titled webinar. The webinar has been specially designed for women who wants to pursue career or already working in the field of Energy Conservation as Energy Auditor / Manager. \n  \nWebinar Contents  \n\nWhy women to opt work in Energy Sector\nEnergy Sector – An Area of Opportunity\nEnergy Auditing – A Promising Career\nElectrical Load Optimization\nCritical Areas of Energy Saving\n\n  \nWho Should Attend?  \nWomen working as Technical Directors\, Maintenance Managers\, Utility Managers\, Energy Managers\, Energy Experts\, Female Entrepreneurs and Young Graduates who wish to enhance their Knowledge & Skills on the subject \n  \nWebinar Schedule \nDate: 3rd February 2022                                                  Time:  2:30 pm – 4:30 pm                        \nVenue: Online via Zoom \nZoom link: https://us02web.zoom.us/j/89391964545\nWebinar ID: 893 9196 4545 \n  \nResource Person:  \nMs. Iram Shahzadi has a rich experience of ASHRAE (American Society of Heating\, Refrigeration and Air Conditioning Engineers) Level 1 and Level 2 Energy Audits. Her major expertise is in energy efficiency\, energy management system auditing and implementation in the industrial sector.
URL:https://energydesk.smeda.org/event/webinar-on-energy-expert-a-promising-career-for-women/
ORGANIZER;CN="Small%20and%20Medium%20Enterprises%20Development%20Authority%20%28SMEDA%29":MAILTO:energydesk@smeda.org.pk
END:VEVENT
END:VCALENDAR