BEGIN:VCALENDAR
VERSION:2.0
PRODID:-//Energy Desk for SMEs - ECPv5.14.2.1//NONSGML v1.0//EN
CALSCALE:GREGORIAN
METHOD:PUBLISH
X-WR-CALNAME:Energy Desk for SMEs
X-ORIGINAL-URL:https://energydesk.smeda.org
X-WR-CALDESC:Events for Energy Desk for SMEs
REFRESH-INTERVAL;VALUE=DURATION:PT1H
X-Robots-Tag:noindex
X-PUBLISHED-TTL:PT1H
BEGIN:VTIMEZONE
TZID:UTC
BEGIN:STANDARD
TZOFFSETFROM:+0000
TZOFFSETTO:+0000
TZNAME:UTC
DTSTART:20210101T000000
END:STANDARD
END:VTIMEZONE
BEGIN:VEVENT
DTSTART;TZID=UTC:20210629T140000
DTEND;TZID=UTC:20210629T163000
DTSTAMP:20260423T071121
CREATED:20210624T094601Z
LAST-MODIFIED:20210624T094601Z
UID:596-1624975200-1624984200@energydesk.smeda.org
SUMMARY:Webinar On Energy Management System in Industries
DESCRIPTION:Small and Medium Enterprise Development Authority (SMEDA) under SMEDA-UNIDO Energy Desk is pleased to announce the titled webinar. The webinar has been designed to brief the participants about the Energy Management System and ISO 50001 that includes introduction and how to implement. Moreover\, financial analysis of Energy project will also be discussed. \n  \nWebinar Contents  \n\nIntroduction of Energy Management System and Its Components\nIntroduction of ISO 50001\nFinancial Analysis of Energy Project; Key terms and case study\n\n  \nWho Should Attend?  \nSME Owners\, Technical Directors\, Maintenance Managers\, Utility Managers\, Energy Managers and all those who wishes to enhance their Knowledge & Skills on the subject. \n  \nWebinar Schedule \n  \nDate: 29th June 2021                                                       Time:  2:00 – 4:30 pm                                            \nVenue: Online via Zoom \n  \nZoom link: https://us02web.zoom.us/j/86734110896 \n  \nResource Person:  \nMr. Shahid Rashid has more than 20 years of professional experience in development and industrial sector. His major expertise is in environmental management\, energy efficiency and energy management system auditing and implementation in the industrial sector. He has worked on different energy projects funded by various international donor organizations like Embassy of the Kingdom of the Netherlands (EKN)\, European Union (EU) and German Ministry of Economic Development (BMZ). Currently\, he is working as a freelance consultant in the areas of energy efficiency and energy management system implementation in industry. \n              \n 
URL:https://energydesk.smeda.org/event/webinar-on-energy-management-system-in-industries/
ORGANIZER;CN="Small%20and%20Medium%20Enterprises%20Development%20Authority%20%28SMEDA%29":MAILTO:energydesk@smeda.org.pk
END:VEVENT
END:VCALENDAR